Workbook
Name S02_: #REF!

Sheet 地市透视表
A1: 地市 | B1: 资产条数 | C1: 资产原值（元） | D1: 资产净值（元） | E1: 净值/原值 | F1: 评估价（元）
A2: 杭州 | B2: 132 | C2: 851804.08 | D2: 159999.75 | E2: =D2/C2 -> 0.18783633 | F2: 24013.158
A3: 台州 | B3: 151 | C3: 427200.44 | D3: 39995.19 | E3: =D3/C3 -> 0.093621603 | F3: 56975.405
A4: 宁波 | B4: 126 | C4: 465630.37 | D4: 40418.98 | E4: =D4/C4 -> 0.086804862 | F4: 25049.065
A5: 金华 | B5: 214 | C5: 987796.04 | D5: 104895.19 | E5: =D5/C5 -> 0.10619114 | F5: 58988.052
A6: 合计 | B6: =SUM(B2:B5) -> 623 | C6: =SUM(C2:C5) -> 2732430.9 | D6: =SUM(D2:D5) -> 345309.11 | E6: =D6/C6 -> 0.12637432 | F6: =SUM(F2:F5) -> 165025.68

Sheet 汇总
A1: 地市 | B1: *资产类别名称（大类相同完成度不同的分行填报） | C1: *对应估值清单的分类描述 | D1: *资产名称 | E1: 计量单位 | F1: 资产数量 | G1: 总重量（kg） | H1: 完整度/出铜（铝）率（%） | I1: 最低转让单价（含税） | J1: 最低转让总价（含税） | K1: 备注 （主要配件缺失的需要注明）
A2: 台州 | B2: =VLOOKUP(D2,[1]物资价格!$A:$B,2,0) -> 机房空调设备-空调 | C2: =VLOOKUP(D2,[1]物资价格!$A:$C,3,0) -> 壁挂空调 | D2: 2P及2P以下成套空调 | E2: =VLOOKUP(D2,[1]清单!$D:$H,5,0) -> 台 | F2: 5 | I2: 527 | J2: =I2*F2 -> 2635
A3: 台州 | B3: =VLOOKUP(D3,[1]物资价格!$A:$B,2,0) -> 机房空调设备-空调 | C3: =VLOOKUP(D3,[1]物资价格!$A:$C,3,0) -> 3匹空调 | D3: 3P空调无室外机 | E3: =VLOOKUP(D3,[1]清单!$D:$H,5,0) -> 台 | F3: 1 | I3: 461 | J3: =I3*F3 -> 461
A4: 台州 | B4: =VLOOKUP(D4,[1]物资价格!$A:$B,2,0) -> 机房空调设备-空调 | C4: =VLOOKUP(D4,[1]物资价格!$A:$C,3,0) -> 3匹空调 | D4: 3P空调室内外成套 | E4: =VLOOKUP(D4,[1]清单!$D:$H,5,0) -> 台 | F4: 48 | I4: 950 | J4: =I4*F4 -> 45600
A5: 台州 | B5: =VLOOKUP(D5,[1]物资价格!$A:$B,2,0) -> 普通钢 | C5: =VLOOKUP(D5,[1]物资价格!$A:$C,3,0) -> 其他各类铁质为主的报废物资，例如：走线架、空柜体、机架、电池架、空调防盗网、整流机架、充电电源柜等。 | D5: 壁挂式开关电源 | E5: =VLOOKUP(D5,[1]清单!$D:$H,5,0) -> 架 | F5: 1 | G5: 6.5 | I5: 1980元/吨 | J5: =1980/1000*G5 -> 12.87
A6: 台州 | B6: =VLOOKUP(D6,[1]物资价格!$A:$B,2,0) -> 办公设备 | C6: =VLOOKUP(D6,[1]物资价格!$A:$C,3,0) -> 打印机 | D6: 打印机 | E6: =VLOOKUP(D6,[1]清单!$D:$H,5,0) -> 台 | F6: 6 | G6: 32 | I6: 26 | J6: =I6*F6 -> 156
A7: 台州 | B7: =VLOOKUP(D7,[1]物资价格!$A:$B,2,0) -> 普通钢 | C7: =VLOOKUP(D7,[1]物资价格!$A:$C,3,0) -> 其他各类铁质为主的报废物资，例如：走线架、空柜体、机架、电池架、空调防盗网、整流机架、充电电源柜等。 | D7: 电表 | E7: =VLOOKUP(D7,[1]清单!$D:$H,5,0) -> 个 | F7: 1 | G7: 0.5 | I7: 1980元/吨 | J7: =1980/1000*G7 -> 0.99
A8: 台州 | B8: =VLOOKUP(D8,[1]物资价格!$A:$B,2,0) -> 普通钢 | C8: =VLOOKUP(D8,[1]物资价格!$A:$C,3,0) -> 其他各类铁质为主的报废物资，例如：走线架、空柜体、机架、电池架、空调防盗网、整流机架、充电电源柜等。 | D8: 电池合路器 | E8: =VLOOKUP(D8,[1]清单!$D:$H,5,0) -> 个 | F8: 1 | G8: 2 | I8: 1980元/吨 | J8: =1980/1000*G8 -> 3.96
A9: 台州 | B9: =VLOOKUP(D9,[1]物资价格!$A:$B,2,0) -> 其他小件物资 | C9: =VLOOKUP(D9,[1]物资价格!$A:$C,3,0) -> 动力及环境监控组件 | D9: 动环监控 | E9: =VLOOKUP(D9,[1]清单!$D:$H,5,0) -> 个 | F9: 22 | G9: 31 | I9: 16 | J9: =I9*F9 -> 352
A10: 台州 | B10: =VLOOKUP(D10,[1]物资价格!$A:$B,2,0) -> 普通钢 | C10: =VLOOKUP(D10,[1]物资价格!$A:$C,3,0) -> 其他各类铁质为主的报废物资，例如：走线架、空柜体、机架、电池架、空调防盗网、整流机架、充电电源柜等。 | D10: 供电计量设备 | E10: =VLOOKUP(D10,[1]清单!$D:$H,5,0) -> 个 | F10: 2 | G10: 1 | I10: 1980元/吨 | J10: =1980/1000*G10 -> 1.98
A11: 台州 | B11: =VLOOKUP(D11,[1]物资价格!$A:$B,2,0) -> 机房空调设备-空调 | C11: =VLOOKUP(D11,[1]物资价格!$A:$C,3,0) -> 空调按重量处置 | D11: 机柜空调 | E11: =VLOOKUP(D11,[1]清单!$D:$H,5,0) -> 台 | F11: 4 | G11: 98.5 | I11: 10160元/吨 | J11: =10160/1000*G11 -> 1000.76
A12: 台州 | B12: =VLOOKUP(D12,[1]物资价格!$A:$B,2,0) -> 配电箱类 | C12: =VLOOKUP(D12,[1]物资价格!$A:$C,3,0) -> 包括各种壁挂配电箱、油机转换箱、燃油箱、发电设备控制柜等 | D12: 交流计量箱 | E12: =VLOOKUP(D12,[1]清单!$D:$H,5,0) -> 个 | F12: 3 | G12: 18.5 | I12: 102 | J12: =I12*F12 -> 306
A13: 台州 | B13: =VLOOKUP(D13,[1]物资价格!$A:$B,2,0) -> 普通钢 | C13: =VLOOKUP(D13,[1]物资价格!$A:$C,3,0) -> 其他各类铁质为主的报废物资，例如：走线架、空柜体、机架、电池架、空调防盗网、整流机架、充电电源柜等。 | D13: 空调控制器 | E13: =VLOOKUP(D13,[1]清单!$D:$H,5,0) -> 个 | F13: 3 | G13: 2.5 | I13: 1980元/吨 | J13: =1980/1000*G13 -> 4.95
A14: 台州 | B14: =VLOOKUP(D14,[1]物资价格!$A:$B,2,0) -> 电力电缆 | C14: =VLOOKUP(D14,[1]物资价格!$A:$C,3,0) -> 铝缆类 | D14: 铝芯电缆 | E14: =VLOOKUP(D14,[1]清单!$D:$H,5,0) -> 根 | F14: 6 | G14: 43 | H14: 0.27 | I14: 17160元/吨×出铝率 | J14: =17160/1000*H14*G14 -> 199.2276
A15: 台州 | B15: =VLOOKUP(D15,[1]物资价格!$A:$B,2,0) -> 普通钢 | C15: =VLOOKUP(D15,[1]物资价格!$A:$C,3,0) -> 其他各类铁质为主的报废物资，例如：走线架、空柜体、机架、电池架、空调防盗网、整流机架、充电电源柜等。 | D15: 模块 | E15: =VLOOKUP(D15,[1]清单!$D:$H,5,0) -> 个 | F15: 5 | G15: 9 | I15: 1980元/吨 | J15: =1980/1000*G15 -> 17.82
A16: 台州 | B16: =VLOOKUP(D16,[1]物资价格!$A:$B,2,0) -> 配电箱类 | C16: =VLOOKUP(D16,[1]物资价格!$A:$C,3,0) -> 包括各种壁挂配电箱、油机转换箱、燃油箱、发电设备控制柜等 | D16: 配电箱 | E16: =VLOOKUP(D16,[1]清单!$D:$H,5,0) -> 台 | F16: 1 | G16: 4 | I16: 102 | J16: =I16*F16 -> 102
A17: 台州 | B17: =VLOOKUP(D17,[1]物资价格!$A:$B,2,0) -> 普通钢 | C17: =VLOOKUP(D17,[1]物资价格!$A:$C,3,0) -> 其他各类铁质为主的报废物资，例如：走线架、空柜体、机架、电池架、空调防盗网、整流机架、充电电源柜等。 | D17: 嵌入式开关电源 | E17: =VLOOKUP(D17,[1]清单!$D:$H,5,0) -> 架 | F17: 4 | G17: 23 | I17: 1980元/吨 | J17: =1980/1000*G17 -> 45.54
A18: 台州 | B18: =VLOOKUP(D18,[1]物资价格!$A:$B,2,0) -> 办公设备 | C18: =VLOOKUP(D18,[1]物资价格!$A:$C,3,0) -> 台式机 | D18: 台式机 | E18: =VLOOKUP(D18,[1]清单!$D:$H,5,0) -> 台 | F18: 20 | G18: 68 | I18: 81 | J18: =I18*F18 -> 1620
A19: 台州 | B19: =VLOOKUP(D19,[1]物资价格!$A:$B,2,0) -> 电力电缆 | C19: =VLOOKUP(D19,[1]物资价格!$A:$C,3,0) -> 铜缆类 | D19: 铜芯电缆 | E19: =VLOOKUP(D19,[1]清单!$D:$H,5,0) -> 根 | F19: 2 | G19: 1.5 | H19: 0.5 | I19: 70210元/吨×出铜率 | J19: =70210/1000*H19*G19 -> 52.6575
A20: 台州 | B20: =VLOOKUP(D20,[1]物资价格!$A:$B,2,0) -> 一体化机柜 | C20: =VLOOKUP(D20,[1]物资价格!$A:$C,3,0) -> 一体化机柜（空调型） | D20: 一体化机柜（空调型） | E20: =VLOOKUP(D20,[1]清单!$D:$H,5,0) -> 个 | F20: 2 | G20: 176 | I20: 203 | J20: =I20*F20 -> 406
A21: 台州 | B21: =VLOOKUP(D21,[1]物资价格!$A:$B,2,0) -> 配电箱类 | C21: =VLOOKUP(D21,[1]物资价格!$A:$C,3,0) -> 包括各种壁挂配电箱、油机转换箱、燃油箱、发电设备控制柜等 | D21: 油机转换箱 | E21: =VLOOKUP(D21,[1]清单!$D:$H,5,0) -> 个 | F21: 4 | G21: 19 | I21: 102 | J21: =I21*F21 -> 408
A22: 台州 | B22: =VLOOKUP(D22,[1]物资价格!$A:$B,2,0) -> 普通钢 | C22: =VLOOKUP(D22,[1]物资价格!$A:$C,3,0) -> 其他各类铁质为主的报废物资，例如：走线架、空柜体、机架、电池架、空调防盗网、整流机架、充电电源柜等。 | D22: 综合柜 | E22: =VLOOKUP(D22,[1]清单!$D:$H,5,0) -> 个 | F22: 1 | G22: 55 | I22: 1980元/吨 | J22: =1980/1000*G22 -> 108.9
A23: 台州 | B23: =VLOOKUP(D23,[1]物资价格!$A:$B,2,0) -> 普通钢 | C23: =VLOOKUP(D23,[1]物资价格!$A:$C,3,0) -> 其他各类铁质为主的报废物资，例如：走线架、空柜体、机架、电池架、空调防盗网、整流机架、充电电源柜等。 | D23: 走线架 | E23: =VLOOKUP(D23,[1]清单!$D:$H,5,0) -> 个 | F23: 2 | G23: 27 | I23: 1980元/吨 | J23: =1980/1000*G23 -> 53.46
A24: 台州 | B24: =VLOOKUP(D24,[1]物资价格!$A:$B,2,0) -> 较高的柜体 | C24: =VLOOKUP(D24,[1]物资价格!$A:$C,3,0) -> 开关电源、变换设备 | D24: 组合开关电源柜 | E24: =VLOOKUP(D24,[1]清单!$D:$H,5,0) -> 架 | F24: 7 | H24: 0.33 | I24: 489.47 | J24: 3426.29
A25: 宁波 | B25: 机房空调设备-空调 | C25: 3匹空调 | D25: 3P空调仅有室外机 | E25: 台 | F25: 1 | I25: 489 | J25: =I25*F25 -> 489 | K25: 无铜管
A26: 宁波 | B26: 机房空调设备-空调 | C26: 3匹空调 | D26: 3P空调无铜管 | E26: 个 | F26: 1 | I26: 769 | J26: =I26*F26 -> 769 | K26: 无铜管
A27: 宁波 | B27: 机房空调设备-空调 | C27: 3匹空调 | D27: 3P空调无铜管 | E27: 台 | F27: 19 | I27: 769 | J27: =I27*F27 -> 14611 | K27: 无铜管
A28: 宁波 | B28: 机房空调设备-空调 | C28: 壁挂空调 | D28: 2P空调无铜管 | E28: 台 | F28: 4 | I28: 413 | J28: =I28*F28 -> 1652 | K28: 无铜管
A29: 宁波 | B29: 较高的柜体 | C29: 开关电源、变换设备 | D29: 组合开关电源柜 | E29: 个 | F29: 30 | H29: 0 | I29: 173 | J29: =I29*F29 -> 5190 | K29: 无配件
A30: 宁波 | B30: 配电箱类 | C30: 包括各种壁挂配电箱、油机转换箱、燃油箱、发电设备控制柜等 | D30: 电表箱 | E30: 个 | F30: 2 | I30: 102 | J30: =I30*F30 -> 204 | K30: 250mmx400mmx140mm
A31: 宁波 | B31: 配电箱类 | C31: 包括各种壁挂配电箱、油机转换箱、燃油箱、发电设备控制柜等 | D31: 电表箱 | E31: 个 | F31: 2 | I31: 102 | J31: =I31*F31 -> 204 | K31: 无配件
A32: 宁波 | B32: 配电箱类 | C32: 包括各种壁挂配电箱、油机转换箱、燃油箱、发电设备控制柜等 | D32: 配电箱 | E32: 个 | F32: 6 | I32: 102 | J32: =I32*F32 -> 612 | K32: 无配件
A33: 宁波 | B33: 其他小件物资 | C33: 动力及环境监控组件 | D33: 动环监控 | E33: 套 | F33: 9 | I33: 16 | J33: =I33*F33 -> 144 | K33: 无配件
A34: 宁波 | B34: 一体化机柜 | C34: 一体化机柜（风扇型） | D34: 一体化机柜（风扇型） | E34: 个 | F34: 2 | I34: 155 | J34: =I34*F34 -> 310 | K34: 无配件
A35: 宁波 | B35: 电力电缆 | C35: 铝缆类 | D35: 铝芯电缆 | E35: 米 | F35: 11 | G35: 11 | H35: 0.5 | I35: 17160元/吨×出铝率 | J35: =17160/1000*H35*G35 -> 94.38
A36: 宁波 | B36: 电力电缆 | C36: 铜缆类 | D36: 铜芯电缆 | E36: 米 | F36: 1 | G36: 1 | H36: 0.5 | I36: 70210元/吨×出铜率 | J36: =70210/1000*H36*G36 -> 35.105
A37: 宁波 | B37: 普通钢 | C37: 其他各类铁质为主的报废物资，例如：走线架、空柜体、机架、电池架、空调防盗网、整流机架、充电电源柜等。 | D37: 壁挂式开关电源 | E37: 个 | F37: 4 | G37: 80 | I37: 1980元/吨 | J37: =1980/1000*G37 -> 158.4 | K37: 无配件
A38: 宁波 | B38: 普通钢 | C38: 其他各类铁质为主的报废物资，例如：走线架、空柜体、机架、电池架、空调防盗网、整流机架、充电电源柜等。 | D38: 传感器 | E38: 个 | F38: 2 | G38: 1 | I38: 1980元/吨 | J38: =1980/1000*G38 -> 1.98 | K38: 无配件
A39: 宁波 | B39: 普通钢 | C39: 其他各类铁质为主的报废物资，例如：走线架、空柜体、机架、电池架、空调防盗网、整流机架、充电电源柜等。 | D39: 电表 | E39: 个 | F39: 1 | G39: 1 | I39: 1980元/吨 | J39: =1980/1000*G39 -> 1.98 | K39: 无配件
A40: 宁波 | B40: 普通钢 | C40: 其他各类铁质为主的报废物资，例如：走线架、空柜体、机架、电池架、空调防盗网、整流机架、充电电源柜等。 | D40: 电控锁 | E40: 个 | F40: 1 | G40: 1 | I40: 1980元/吨 | J40: =1980/1000*G40 -> 1.98 | K40: 无配件
...

Sheet 杭州
A1: 序号 | B1: 报废批复文号 | C1: 资产编号 | D1: 资产名称 | E1: 资产类别名称 | F1: 资产原值 （元，不含税） | G1: 资产净值 （元，不含税） | H1: 累计折旧 | I1: 资产数量 | J1: 计量单位 | K1: 单节电池电压 | L1: 规格型号 | M1: 生产厂家 | N1: 站点名称 | O1: 站点编码 | P1: 备注 | Q1: 中通库K3编号 | R1: 报废批复文号（省公司） | S1: 对应估值清单的分类描述(人工调整资产名称） | T1: 资产类别名称 | U1: 物资称重（kg) | V1: 完整度/出铜（铝）率 | W1: 计量方式 | X1: 计量单位 | Y1: 说明
A2: 1 | B2: 杭州市分公司2025年第十次党委会纪要-杭州铁塔党委会纪要(2025)第12期 | C2: 330100193824 | D2: 标签标牌 | E2: 标签标牌 | F2: 461.67 | G2: 315.58 | H2: 146.09 | I2: 1 | J2: 个 | L2: 标签标牌 | M2: 无 | N2: 杭州江干建华三区南 | O2: 330104500000000369 | Q2: 无*标签标牌**杭州江干建华三区南*330104500000000369*0.183kg*330100193824*批*废旧 | S2: 标牌标签 | T2: 普通钢 | U2: 0.183 | W2: 重量计算 | X2: 个
A3: 2 | B3: 杭州市分公司2025年第十次党委会纪要-杭州铁塔党委会纪要(2025)第12期 | C3: 330100301879 | D3: 电表 | E3: 电表 | F3: 986 | G3: 539.44 | H3: 446.56 | I3: 1 | J3: 个 | L3: 智能电表 | M3: 无 | N3: 余杭凤都开发区 | O3: 330110908000000445 | Q3: 无*智能电表**余杭凤都开发区*330110908000000445*0.724kg*330100301879*批*废旧 | S3: 电表 | T3: 普通钢 | U3: 0.724 | W3: 重量计算 | X3: 个
A4: 3 | B4: 杭州市分公司2025年第十次党委会纪要-杭州铁塔党委会纪要(2025)第12期 | C4: 330100280063 | D4: 电缆 | E4: 电缆 | F4: 2520 | G4: 1113 | H4: 1407 | I4: 1.5 | J4: 千克 | L4: 铝缆4芯 | M4: 无 | N4: 杭州光彩国际中心LY南面人行道入口GF40度185度D | O4: 330104500000001982 | P4: 出铝率40% | Q4: 无*铝缆4芯*出铝率40%*杭州光彩国际中心LY南面人行道入口GF40度185度D*330104500000001982*平均凑整1.5kg*330100280063*批*废旧 | S4: 铝芯电缆 | T4: 电力电缆 | U4: 1.5 | V4: 出铝率40% | W4: 重量计算 | X4: 千克
A5: 4 | B5: 杭州市分公司2025年第十次党委会纪要-杭州铁塔党委会纪要(2025)第12期 | C5: 330100193823 | D5: 电缆 | E5: 电缆 | F5: 14691.44 | G5: 3053.35 | H5: 11638.09 | I5: 2 | J5: 千克 | L5: 铝缆4芯 | M5: 无 | N5: 杭州江干建华三区南 | O5: 330104500000000369 | P5: 出铝率40% | Q5: 无*铝缆4芯*出铝率40%*杭州江干建华三区南*330104500000000369*平均2kg*330100193823*批*废旧 | S5: 铝芯电缆 | T5: 电力电缆 | U5: 2 | V5: 出铝率40% | W5: 重量计算 | X5: 千克
A6: 5 | B6: 杭州市分公司2025年第十次党委会纪要-杭州铁塔党委会纪要(2025)第12期 | C6: 330100325254 | D6: 电缆 | E6: 电缆 | F6: 7678.67 | G6: 4846.68 | H6: 2831.99 | I6: 2 | J6: 千克 | L6: 铝缆4芯 | M6: 无 | N6: 杭州江干建华三区南 | O6: 330104500000000369 | P6: 出铝率40% | Q6: 无*铝缆4芯*出铝率40%*杭州江干建华三区南*330104500000000369*平均2kg*330100325254*批*废旧 | S6: 铝芯电缆 | T6: 电力电缆 | U6: 2 | V6: 出铝率40% | W6: 重量计算 | X6: 千克
A7: 6 | B7: 杭州市分公司2025年第十次党委会纪要-杭州铁塔党委会纪要(2025)第12期 | C7: 330100133657 | D7: 电缆 | E7: 电缆 | F7: 1752.52 | G7: 151.73 | H7: 1600.79 | I7: 26.5 | J7: 千克 | L7: 铝缆-4芯 | M7: 无 | N7: 建德裘村 | O7: 330182908000000522 | P7: 出铝率40% | Q7: 无*铝缆-4芯*出铝率40%*建德裘村*330182908000000522*26.5kg*330100133657*批*废旧 | S7: 铝芯电缆 | T7: 电力电缆 | U7: 26.5 | V7: 出铝率40% | W7: 重量计算 | X7: 千克
A8: 7 | B8: 杭州市分公司2025年第十次党委会纪要-杭州铁塔党委会纪要(2025)第12期 | C8: 330100260392 | D8: 电缆 | E8: 电缆 | F8: 7207.09 | G8: 3057.19 | H8: 4149.9 | I8: 104 | J8: 千克 | L8: 铝缆-4芯 | M8: 无 | N8: 临安工商大楼 | O8: 330185908000000004 | P8: 出铝率40% | Q8: 无*铝缆-4芯*出铝率40%*临安工商大楼*330185908000000004*平均104kg*330100260392*批*废旧 | S8: 铝芯电缆 | T8: 电力电缆 | U8: 104 | V8: 出铝率40% | W8: 重量计算 | X8: 千克
A9: 8 | B9: 杭州市分公司2025年第十次党委会纪要-杭州铁塔党委会纪要(2025)第12期 | C9: 330100133547 | D9: 电缆 | E9: 电缆 | F9: 6872.54 | G9: 595.06 | H9: 6277.48 | I9: 104 | J9: 千克 | L9: 铝缆-4芯 | M9: 无 | N9: 临安杭机集团 | O9: 330185908000000777 | P9: 出铝率40% | Q9: 无*铝缆-4芯*出铝率40%*临安杭机集团*330185908000000777*平均104kg*330100133547*批*废旧 | S9: 铝芯电缆 | T9: 电力电缆 | U9: 104 | V9: 出铝率40% | W9: 重量计算 | X9: 千克
A10: 9 | B10: 杭州市分公司2024年第二十六次党委会纪要-杭州铁塔党委会纪要(2024)第28期 | C10: 330100338943 | D10: 电缆 | E10: 电缆 | F10: 26228.23 | G10: 19216.67 | H10: 7011.56 | I10: 104 | J10: 千克 | L10: 铝缆-4芯 | M10: 无 | N10: 临安浪口 | O10: 330185908000000714 | P10: 出铝率40% | Q10: 无*铝缆-4芯*出铝率40%*临安浪口*330185908000000714*平均104kg*330100338943*批*废旧 | S10: 铝芯电缆 | T10: 电力电缆 | U10: 104 | V10: 出铝率40% | W10: 重量计算 | X10: 千克
A11: 10 | B11: 杭州市分公司2025年第十次党委会纪要-杭州铁塔党委会纪要(2025)第12期 | C11: 330100257644 | D11: 电缆 | E11: 电缆 | F11: 60910.64 | G11: 24328.23 | H11: 36582.41 | I11: 104 | J11: 千克 | L11: 铝缆-4芯 | M11: 无 | N11: 临安同人山庄 | O11: 330185500000001750 | P11: 出铝率40% | Q11: 无*铝缆-4芯*出铝率40%*临安同人山庄*330185500000001750*平均104kg*330100257644*批*废旧 | S11: 铝芯电缆 | T11: 电力电缆 | U11: 104 | V11: 出铝率40% | W11: 重量计算 | X11: 千克
A12: 11 | B12: 杭州市分公司2024年第二十六次党委会纪要-杭州铁塔党委会纪要(2024)第28期 | C12: 330100134128 | D12: 电缆 | E12: 电缆 | F12: 21678.75 | G12: 3278.88 | H12: 18399.87 | I12: 104 | J12: 千克 | L12: 铝缆-4芯 | M12: 无 | N12: 临安外珠西 | O12: 330185500000000369 | P12: 出铝率40% | Q12: 无*铝缆-4芯*出铝率40%*临安外珠西*330185500000000369*平均104kg*330100134128*批*废旧 | S12: 铝芯电缆 | T12: 电力电缆 | U12: 104 | V12: 出铝率40% | W12: 重量计算 | X12: 千克
A13: 12 | B13: 杭州市分公司2025年第十次党委会纪要-杭州铁塔党委会纪要(2025)第12期 | C13: 330100324821 | D13: 电缆 | E13: 电缆 | F13: 12540.53 | G13: 7829.65 | H13: 4710.88 | I13: 106.5 | J13: 千克 | L13: 铝缆-4芯 | M13: 无 | N13: 临安中天郡府 | O13: 330185500000001775 | P13: 出铝率40% | Q13: 无*铝缆-4芯*出铝率40%*临安中天郡府*330185500000001775*平均凑整106.5kg*330100324821*批*废旧 | S13: 铝芯电缆 | T13: 电力电缆 | U13: 106.5 | V13: 出铝率40% | W13: 重量计算 | X13: 千克
A14: 13 | B14: 杭州市分公司2025年第十次党委会纪要-杭州铁塔党委会纪要(2025)第12期 | C14: 330100132922 | D14: 电缆 | E14: 电缆 | F14: 2472.71 | G14: 214.07 | H14: 2258.64 | I14: 5 | J14: 千克 | L14: 铝缆-四芯 | M14: 无 | N14: 余杭白云深处 | O14: 330110908000000340 | P14: 出铝率40% | Q14: 无*铝缆-四芯*出铝率40%*余杭白云深处*330110908000000340*平均5kg*330100132922*批*废旧 | S14: 铝芯电缆 | T14: 电力电缆 | U14: 5 | V14: 出铝率40% | W14: 重量计算 | X14: 千克
A15: 14 | B15: 杭州市分公司2025年第十次党委会纪要-杭州铁塔党委会纪要(2025)第12期 | C15: 330100132509 | D15: 电缆 | E15: 电缆 | F15: 3201.12 | G15: 277.15 | H15: 2923.97 | I15: 5 | J15: 千克 | L15: 铝缆-四芯 | M15: 无 | N15: 余杭凤都开发区 | O15: 330110908000000445 | P15: 出铝率40% | Q15: 无*铝缆-四芯*出铝率40%*余杭凤都开发区*330110908000000445*平均5kg*330100132509*批*废旧 | S15: 铝芯电缆 | T15: 电力电缆 | U15: 5 | V15: 出铝率40% | W15: 重量计算 | X15: 千克
... A17: 16 | B17: 杭州市分公司2025年第十次党委会纪要-杭州铁塔党委会纪要(2025)第12期 | C17: 330100331461 | D17: 电缆 | E17: 电缆 | F17: 24145.82 | G17: 15858.21 | H17: 8287.61 | I17: 5 | J17: 千克 | L17: 铝缆-四芯 | M17: 无 | N17: 余杭凤都开发区 | O17: 330110908000000445 | P17: 出铝率40% | Q17: 无*铝缆-四芯*出铝率40%*余杭凤都开发区*330110908000000445*平均5kg*330100331461*批*废旧 | S17: 铝芯电缆 | T17: 电力电缆 | U17: 5 | V17: 出铝率40% | W17: 重量计算 | X17: 千克
A18: 17 | B18: 杭州市分公司2025年第十次党委会纪要-杭州铁塔党委会纪要(2025)第12期 | C18: 330100253195 | D18: 断路器 | E18: 断路器 | F18: 18.61 | G18: 0.56 | H18: 18.05 | I18: 1 | J18: 个 | L18: 断路器 | M18: 无 | N18: 杭州新鼎红娱乐城LY南山路红泥砂锅 | O18: 330102700000084435 | Q18: 无*断路器**杭州新鼎红娱乐城LY南山路红泥砂锅*330102700000084435*0.5kg*330100253195*批*废旧 | S18: 断路器 | T18: 普通钢 | U18: 0.5 | W18: 重量计算 | X18: 个
A19: 18 | B19: 杭州市分公司2025年第十次党委会纪要-杭州铁塔党委会纪要(2025)第12期 | C19: 330100291219 | D19: 断路器 | E19: 断路器 | F19: 12.64 | G19: 2.44 | H19: 10.2 | I19: 1 | J19: 个 | L19: 断路器63A | M19: 无 | N19: 余杭凤都开发区 | O19: 330110908000000445 | Q19: 无*断路器63A**余杭凤都开发区*330110908000000445*0.28kg*330100291219*批*废旧 | S19: 断路器 | T19: 普通钢 | U19: 0.28 | W19: 重量计算 | X19: 个
A20: 19 | B20: 杭州市分公司2025年第十次党委会纪要-杭州铁塔党委会纪要(2025)第12期 | C20: 330100228494 | D20: 废旧RRU架 | E20: 废旧RRU架 | F20: 1636.79 | G20: 49.1 | H20: 1587.69 | I20: 1 | J20: 个 | L20: 室内RRU安装架 | M20: 无 | N20: 建德裘村 | O20: 330182908000000522 | Q20: 无*室内RRU安装架**建德裘村*330182908000000522*52.5kg*330100228494*批*废旧 | S20: RRU | T20: 普通钢 | U20: 52.5 | W20: 重量计算 | X20: 个
A21: 20 | B21: 杭州市分公司2025年第十次党委会纪要-杭州铁塔党委会纪要(2025)第12期 | C21: 330100252595 | D21: 废旧RRU架 | E21: 废旧RRU架 | F21: 67686.98 | G21: 46895.88 | H21: 20791.1 | I21: 1 | J21: 个 | L21: 室内型 | M21: 无 | N21: 临安锦南街道医高专学校2 | O21: 330185500000000198 | Q21: 无*室内型**临安锦南街道医高专学校2*330185500000000198*48kg*330100252595*批*废旧 | S21: RRU | T21: 普通钢 | U21: 48 | W21: 重量计算 | X21: 个
A22: 21 | B22: 杭州市分公司2025年第十次党委会纪要-杭州铁塔党委会纪要(2025)第12期 | C22: 330100230836 | D22: 废旧RRU架 | E22: 废旧RRU架 | F22: 1642.17 | G22: 49.27 | H22: 1592.9 | I22: 1 | J22: 个 | L22: 室内型 | M22: 无 | N22: 余杭白云深处 | O22: 330110908000000340 | Q22: 无*室内型**余杭白云深处*330110908000000340*47.5kg*330100230836*批*废旧 | S22: RRU | T22: 普通钢 | U22: 47.5 | W22: 重量计算 | X22: 个
A23: 22 | B23: 杭州市分公司2025年第十次党委会纪要-杭州铁塔党委会纪要(2025)第12期 | C23: 330100231569 | D23: 废旧RRU架 | E23: 废旧RRU架 | F23: 1642.17 | G23: 49.27 | H23: 1592.9 | I23: 1 | J23: 个 | L23: 室内型 | M23: 无 | N23: 余杭凤都开发区 | O23: 330110908000000445 | Q23: 无*室内型**余杭凤都开发区*330110908000000445*43.5kg*330100231569*批*废旧 | S23: RRU | T23: 普通钢 | U23: 43.5 | W23: 重量计算 | X23: 个
A24: 23 | B24: 杭州市分公司2025年第十次党委会纪要-杭州铁塔党委会纪要(2025)第12期 | C24: 330100265410 | D24: 机柜 | E24: 机柜 | F24: 9918.99 | G24: 835.51 | H24: 9083.48 | I24: 1 | J24: 个 | L24: 一体化电源柜（风扇型） | M24: 无 | N24: 杭州花园村六区-2 | O24: 330104700000084775 | P24: 含嵌入式电源，模块数量1个 | Q24: 无*一体化电源柜（风扇型）*含嵌入式电源，模块数量1个*杭州花园村六区-2*330104700000084775*79kg/完整度10%*330100265410*批*废旧 | S24: 机柜内含嵌入式开关电源 | T24: 较高的柜体 | U24: 79 | V24: 完整度10% | W24: 重量计算 | X24: 个
A25: 24 | B25: 杭州市分公司2025年第十次党委会纪要-杭州铁塔党委会纪要(2025)第12期 | C25: 330100193820 | D25: 机柜 | E25: 机柜 | F25: 20004.63 | G25: 600.14 | H25: 19404.49 | I25: 1 | J25: 个 | L25: 一体化电源柜（空调型） | M25: 无 | N25: 杭州江干建华三区南 | O25: 330104500000000369 | P25: 含嵌入式电源，模块数量1个 | Q25: 无*一体化电源柜（空调型）*含嵌入式电源，模块数量1个*杭州江干建华三区南*330104500000000369*165kg/完整度10%*330100193820*批*废旧 | S25: 机柜内含嵌入式开关电源 | T25: 较高的柜体 | U25: 165 | V25: 完整度10% | W25: 重量计算 | X25: 个
A26: 25 | B26: 杭州市分公司2025年第十次党委会纪要-杭州铁塔党委会纪要(2025)第12期 | C26: 330100169053 | D26: 机柜 | E26: 机柜 | F26: 19481.75 | G26: 584.45 | H26: 18897.3 | I26: 1 | J26: 个 | L26: 一体化电源柜风扇型 | M26: 无 | N26: 建德移动三都上塘 | O26: 330182500000000044 | P26: 含嵌入式开关电源，1个模块 | Q26: 无*一体化电源柜风扇型*含嵌入式开关电源，1个模块*建德移动三都上塘*330182500000000044*120.5kg/完整度10%*330100169053*批*废旧 | S26: 机柜内含嵌入式开关电源 | T26: 较高的柜体 | U26: 120.5 | V26: 完整度10% | W26: 重量计算 | X26: 个
A27: 26 | B27: 杭州市分公司2025年第十次党委会纪要-杭州铁塔党委会纪要(2025)第12期 | C27: 330100204796 | D27: 机柜 | E27: 机柜 | F27: 48013.13 | G27: 1440.39 | H27: 46572.74 | I27: 1 | J27: 个 | L27: 一体化机柜（风扇型） | M27: 无 | N27: 建德梅城四峰村2 | O27: 330182500000000078 | P27: 含嵌入式开关电源，1个模块 | Q27: 无*一体化机柜（风扇型）*含嵌入式开关电源，1个模块*建德梅城四峰村2*330182500000000078*111.5kg/完整度10%*330100204796*批*废旧 | S27: 机柜内含嵌入式开关电源 | T27: 较高的柜体 | U27: 111.5 | V27: 完整度10% | W27: 重量计算 | X27: 个
A28: 27 | B28: 杭州市分公司2025年第十次党委会纪要-杭州铁塔党委会纪要(2025)第12期 | C28: 330100171188_1 | D28: 机柜 | E28: 机柜 | F28: 7418.86 | G28: 222.57 | H28: 7196.29 | I28: 1 | J28: 个 | L28: 一体化机柜（风扇型） | M28: 无 | N28: 天都城爵士花园 | O28: 330110500000000081 | P28: 含嵌入式开关电源，无模块 | Q28: 无*一体化机柜（风扇型）*含嵌入式开关电源，无模块*天都城爵士花园*330110500000000081*99.5kg/完整度5%*330100171188_1*批*废旧 | S28: 机柜内含嵌入式开关电源 | T28: 较高的柜体 | U28: 99.5 | V28: 完整度5% | W28: 重量计算 | X28: 个
A29: 28 | B29: 杭州市分公司2025年第七次党委会纪要-杭州铁塔党委会纪要(2025)第9期 | C29: 330100197389 | D29: 机柜 | E29: 机柜 | F29: 7819.64 | G29: 234.59 | H29: 7585.05 | I29: 1 | J29: 个 | L29: 一体化机柜（风扇型） | M29: 无 | N29: 余杭施家洋 | O29: 330110908000000195 | P29: 含嵌入式开关电源，无模块，实物拆成两部分 | Q29: 无*一体化机柜（风扇型）*含嵌入式开关电源，无模块，实物拆成两部分*余杭施家洋*330110908000000195*205kg/完整度5%*330100197389*批*废旧 | S29: 机柜内含嵌入式开关电源 | T29: 较高的柜体 | U29: 205 | V29: 完整度5% | W29: 重量计算 | X29: 个
A30: 29 | B30: 杭州市分公司2025年第十次党委会纪要-杭州铁塔党委会纪要(2025)第12期 | C30: 330100280061 | D30: 机柜 | E30: 机柜 | F30: 18208.48 | G30: 1954.42 | H30: 16254.06 | I30: 1 | J30: 个 | L30: 一体化机柜（空调型） | M30: 无 | N30: 杭州光彩国际中心LY南面人行道入口GF40度185度D | O30: 330104500000001982 | Q30: 无*一体化机柜（空调型）**杭州光彩国际中心LY南面人行道入口GF40度185度D*330104500000001982**330100280061*批*废旧 | S30: 一体化机柜（空调型） | T30: 一体化机柜 | W30: 数量计算 | X30: 个
A31: 30 | B31: 杭州市分公司2025年第十次党委会纪要-杭州铁塔党委会纪要(2025)第12期 | C31: 330100280591_1 | D31: 机柜 | E31: 机柜 | F31: 9363.73 | G31: 1290.55 | H31: 8073.18 | I31: 1 | J31: 个 | L31: 一体化机柜空调型-拆分-机柜柜体组件 | M31: 无 | N31: 建德市长途客运中心 | O31: 330182010000000121 | P31: 含嵌入式开关电源，1个模块 | Q31: 无*一体化机柜空调型-拆分-机柜柜体组件*含嵌入式开关电源，1个模块*建德市长途客运中心*330182010000000121*79.5kg/完整度10%*330100280591_1*批*废旧 | S31: 机柜内含嵌入式开关电源 | T31: 较高的柜体 | U31: 79.5 | V31: 完整度10% | W31: 重量计算 | X31: 个
A32: 31 | B32: 杭州市分公司2025年第十次党委会纪要-杭州铁塔党委会纪要(2025)第12期 | C32: 330100270701 | D32: 机柜 | E32: 机柜 | F32: 1447.18 | G32: 179.88 | H32: 1267.3 | I32: 1 | J32: 个 | L32: 综合柜 | M32: 无 | N32: 临安锦南街道医高专学校2 | O32: 330185500000000198 | Q32: 无*综合柜**临安锦南街道医高专学校2*330185500000000198*61.5kg*330100270701*批*废旧 | S32: 综合柜 | T32: 普通钢 | U32: 61.5 | W32: 重量计算 | X32: 个
A33: 32 | B33: 杭州市分公司2025年第十次党委会纪要-杭州铁塔党委会纪要(2025)第12期 | C33: 330100224930 | D33: 监控 | E33: 监控 | F33: 3675.99 | G33: 110.28 | H33: 3565.71 | I33: 1 | J33: 个 | L33: 动环监控 | M33: 无 | N33: 白石港绿化带 | O33: 330104500000000115 | P33: 纯主机，无辅材 | Q33: 无*动环监控*纯主机，无辅材*白石港绿化带*330104500000000115**330100224930*批*废旧 | S33: 动环监控 | T33: 其他小件物资 | W33: 数量计算 | X33: 个
A34: 33 | B34: 杭州市分公司2025年第十次党委会纪要-杭州铁塔党委会纪要(2025)第12期 | C34: 330100230306 | D34: 监控 | E34: 监控 | F34: 2582.04 | G34: 77.46 | H34: 2504.58 | I34: 1 | J34: 个 | L34: 动环监控 | M34: 无 | N34: 杭州东方电子商务园搬迁 | O34: 330104500000000375 | P34: 纯主机，无辅材 | Q34: 无*动环监控*纯主机，无辅材*杭州东方电子商务园搬迁*330104500000000375**330100230306*批*废旧 | S34: 动环监控 | T34: 其他小件物资 | W34: 数量计算 | X34: 个
A35: 34 | B35: 杭州市分公司2025年第十次党委会纪要-杭州铁塔党委会纪要(2025)第12期 | C35: 330100273669 | D35: 监控 | E35: 监控 | F35: 3541.44 | G35: 440.24 | H35: 3101.2 | I35: 1 | J35: 个 | L35: 动环监控 | M35: 无 | N35: 杭州东方电子商务园搬迁 | O35: 330104500000000375 | P35: 纯主机，无辅材 | Q35: 无*动环监控*纯主机，无辅材*杭州东方电子商务园搬迁*330104500000000375**330100273669*批*废旧 | S35: 动环监控 | T35: 其他小件物资 | W35: 数量计算 | X35: 个
A36: 35 | B36: 杭州市分公司2025年第十次党委会纪要-杭州铁塔党委会纪要(2025)第12期 | C36: 330100280060 | D36: 监控 | E36: 监控 | F36: 4540.69 | G36: 490.55 | H36: 4050.14 | I36: 1 | J36: 个 | L36: 动环监控 | M36: 无 | N36: 杭州光彩国际中心LY南面人行道入口GF40度185度D | O36: 330104500000001982 | P36: 纯主机，无辅材 | Q36: 无*动环监控*纯主机，无辅材*杭州光彩国际中心LY南面人行道入口GF40度185度D*330104500000001982**330100280060*批*废旧 | S36: 动环监控 | T36: 其他小件物资 | W36: 数量计算 | X36: 个
A37: 36 | B37: 杭州市分公司2025年第十次党委会纪要-杭州铁塔党委会纪要(2025)第12期 | C37: 330100265576 | D37: 监控 | E37: 监控 | F37: 15239.28 | G37: 1278.44 | H37: 13960.84 | I37: 1 | J37: 个 | L37: 动环监控 | M37: 无 | N37: 杭州江干德信之翼 | O37: 330104010000001870 | P37: 纯主机，无辅材 | Q37: 无*动环监控*纯主机，无辅材*杭州江干德信之翼*330104010000001870**330100265576*批*废旧 | S37: 动环监控 | T37: 其他小件物资 | W37: 数量计算 | X37: 个
A38: 37 | B38: 杭州市分公司2025年第七次党委会纪要-杭州铁塔党委会纪要(2025)第9期 | C38: 330100306206 | D38: 监控 | E38: 监控 | F38: 1035.35 | G38: 156.11 | H38: 879.24 | I38: 1 | J38: 个 | L38: 动环监控 | M38: 无 | N38: 杭州江干华润万家超市 | O38: 330104500000000062 | P38: 纯主机，无辅材 | Q38: 无*动环监控*纯主机，无辅材*杭州江干华润万家超市*330104500000000062**330100306206*批*废旧 | S38: 动环监控 | T38: 其他小件物资 | W38: 数量计算 | X38: 个
A39: 38 | B39: 杭州市分公司2025年第十次党委会纪要-杭州铁塔党委会纪要(2025)第12期 | C39: 330100193819 | D39: 监控 | E39: 监控 | F39: 4352.2 | G39: 130.57 | H39: 4221.63 | I39: 1 | J39: 个 | L39: 动环监控 | M39: 无 | N39: 杭州江干建华三区南 | O39: 330104500000000369 | P39: 纯主机，无辅材 | Q39: 无*动环监控*纯主机，无辅材*杭州江干建华三区南*330104500000000369**330100193819*批*废旧 | S39: 动环监控 | T39: 其他小件物资 | W39: 数量计算 | X39: 个
A40: 39 | B40: 杭州市分公司2025年第十次党委会纪要-杭州铁塔党委会纪要(2025)第12期 | C40: 330100203930 | D40: 监控 | E40: 监控 | F40: 4644.65 | G40: 139.34 | H40: 4505.31 | I40: 1 | J40: 个 | L40: 动环监控 | M40: 无 | N40: 杭州江干人民检察院 | O40: 33010401000153 | P40: 纯主机，无辅材 | Q40: 无*动环监控*纯主机，无辅材*杭州江干人民检察院*33010401000153**330100203930*批*废旧 | S40: 动环监控 | T40: 其他小件物资 | W40: 数量计算 | X40: 个
A41: 40 | B41: 杭州市分公司2025年第十次党委会纪要-杭州铁塔党委会纪要(2025)第12期 | C41: 330100279776 | D41: 监控 | E41: 监控 | F41: 92861.11 | G41: 4034.09 | H41: 88827.02 | I41: 1 | J41: 个 | L41: 动环监控 | M41: 无 | N41: 杭州江干亚包大厦 | O41: 330104010000001878 | P41: 纯主机，无辅材 | Q41: 无*动环监控*纯主机，无辅材*杭州江干亚包大厦*330104010000001878**330100279776*批*废旧 | S41: 动环监控 | T41: 其他小件物资 | W41: 数量计算 | X41: 个
...

Sheet 台州
A1: *报废批复文号 | B1: *资产编码 | C1: *资产名称 | D1: *资产类别名称 | E1: *资产原值（元，不含税） | F1: *资产净值（元，不含税） | G1: *资产数量 | H1: *计量单位 | I1: 单节电池电压 | J1: *规格型号 | K1: 生产厂家 | L1: *站点名称 | M1: *站点编码 | N1: 备注
A2: 浙江铁塔财务〔2024〕41号 | B2: 331000197270 | C2: 普通空调壁挂 | D2: 2P及2P以下成套空调 | E2: 4675.92 | F2: 140.28 | G2: 1 | H2: 台 | J2: 2P | L2: 温岭太平大厦 | M2: 331081500000001522
A3: 浙江铁塔财务〔2024〕37号 | B3: 331000193497 | C3: 普通空调壁挂 | D3: 2P及2P以下成套空调 | E3: 4581.34 | F3: 137.44 | G3: 1 | H3: 台 | J3: 2P | L3: 椒江下陈牛轭桥村-2 | M3: 331002500000000161
A4: 浙江铁塔财务〔2024〕37号 | B4: 331000213374 | C4: 普通空调壁挂 | D4: 2P及2P以下成套空调 | E4: 6020.27 | F4: 910.64 | G4: 1 | H4: 台 | J4: 2P | L4: 路桥泊盛桃源-1 | M4: 331004010000001558
A5: 浙江铁塔财务〔2024〕37号 | B5: 331000160583 | C5: 基站舒适空调2匹（挂式）（单相）-整机（单冷） | D5: 2P及2P以下成套空调 | E5: 4409.26 | F5: 132.28 | G5: 1 | H5: 台 | J5: 2P | L5: 黄岩北城街道高速口二环路D | M5: 331003500000000035
A6: 浙江铁塔财务〔2024〕37号 | B6: 331000195211 | C6: 普通空调壁挂 | D6: 2P及2P以下成套空调 | E6: 5372.81 | F6: 161.18 | G6: 1 | H6: 台 | J6: 2P | L6: 椒江葭芷新世纪控股 | M6: 331002500000001507
A7: 2025年第十一次党委会会议纪要 | B7: 331000122647 | C7: 分体空调 | D7: 3P空调室内外成套 | E7: 5626.74 | F7: 168.8 | G7: 1 | H7: 台 | J7: 3p | L7: 路桥邵家村二区 | M7: 331004908000000550
A8: 2025年第一次党委会会议纪要 | B8: 331000216178 | C8: 普通空调柜式 | D8: 3P空调室内外成套 | E8: 6302.9 | F8: 868.41 | G8: 1 | H8: 台 | J8: 3p | L8: 仙居黎华新村 | M8: 331024908000000669
A9: 浙江铁塔财务〔2024〕41号 | B9: 331000141053 | C9: 分体一对一空调 | D9: 3P空调室内外成套 | E9: 315 | F9: 9.45 | G9: 1 | H9: 台 | J9: 3P | L9: 仙居双庙方山岭-2 | M9: 331024908000000175
A10: 浙江铁塔财务〔2024〕41号 | B10: 331000141054 | C10: 分体一对一空调 | D10: 3P空调室内外成套 | E10: 315 | F10: 9.45 | G10: 1 | H10: 台 | J10: 3P | L10: 仙居双庙方山岭-2 | M10: 331024908000000175
A11: 2024年台州公司第十六次党委会会议纪要 | B11: 331000172224 | C11: 普通空调柜式 | D11: 3P空调室内外成套 | E11: 7693.15 | F11: 230.79 | G11: 1 | H11: 台 | J11: 3P | L11: 天台白鹤青岙 | M11: 33102301000098
A12: 2024年台州公司第十六次党委会会议纪要 | B12: 331000154325 | C12: 专用空调 | D12: 3P空调室内外成套 | E12: 500 | F12: 15 | G12: 1 | H12: 台 | J12: 3P | L12: 天台工人东路延伸段 | M12: 331023908000000183
A13: 2024年台州公司第二十一次党委会会议纪要 | B13: 331000164337 | C13: 普通空调柜式 | D13: 3P空调室内外成套 | E13: 7269.61 | F13: 218.09 | G13: 1 | H13: 台 | J13: 3P | L13: 天台白鹤后洋村 | M13: 331023500000000031
... A56: 2024年台州公司第二十一次党委会会议纪要 | B56: 331000195293 | C56: 壁挂式开关电源 | D56: 壁挂式开关电源 | E56: 5371.2 | F56: 161.14 | G56: 1 | H56: 架 | J56: 壁挂式 | L56: 椒江葭芷卫生院 | M56: 331002500000001509
A57: 2025年第10期总经理办公会会议纪要 | B57: 331000000029 | C57: 条码打印机 | D57: 打印机 | E57: 5427.35 | F57: 162.82 | G57: 1 | H57: 台 | N57: 办公用品
A58: 2025年第10期总经理办公会会议纪要 | B58: 331000000030 | C58: 条码打印机 | D58: 打印机 | E58: 5427.35 | F58: 162.82 | G58: 1 | H58: 台 | N58: 办公用品
A59: 2025年第10期总经理办公会会议纪要 | B59: 331000004342 | C59: 打印机 | D59: 打印机 | E59: 760.68 | F59: 22.82 | G59: 1 | H59: 台 | N59: 办公用品
A60: 2025年第10期总经理办公会会议纪要 | B60: 331000004343 | C60: 打印机 | D60: 打印机 | E60: 760.68 | F60: 22.82 | G60: 1 | H60: 台 | N60: 办公用品
A61: 2025年第10期总经理办公会会议纪要 | B61: 331000004344 | C61: 打印机 | D61: 打印机 | E61: 760.68 | F61: 22.82 | G61: 1 | H61: 台 | N61: 办公用品
A62: 2025年第10期总经理办公会会议纪要 | B62: 331000004348 | C62: 税票扫描仪 | D62: 打印机 | E62: 6025.64 | F62: 180.77 | G62: 1 | H62: 台 | N62: 办公用品
A63: 浙江铁塔财务〔2024〕41号 | B63: 331000202131 | C63: 电源扩容资产 | D63: 电表 | E63: 603.45 | F63: 18.1 | G63: 1 | H63: 个 | L63: 临海大洋五家殿村-2 | M63: 331082908000000219
A64: 2025年第一次党委会会议纪要 | B64: 331000236200 | C64: 电池合路器 | D64: 电池合路器 | E64: 3434.36 | F64: 1074.19 | G64: 1 | H64: 个 | L64: 路桥路北街道腾达路管前村 | M64: 331004500000000052
A65: 2025年第六次党委会会议纪要 | B65: 331000250885 | C65: 动力及环境监控单元 | D65: 动环监控 | E65: 3456.96 | F65: 1418.03 | G65: 1 | H65: 个 | L65: 仙居上徐村 | M65: 331024500010001578
A66: 2025年第六次党委会会议纪要 | B66: 331000241592 | C66: 动力及环境监控单元 | D66: 动环监控 | E66: 4119.41 | F66: 1344.91 | G66: 1 | H66: 个 | L66: 仙居金台西井2号隧道西口外打 | M66: 331024500000001512
A67: 2025年第六次党委会会议纪要 | B67: 331000218055 | C67: 动力及环境监控单元 | D67: 动环监控 | E67: 2585.83 | F67: 321.41 | G67: 1 | H67: 个 | L67: 仙居社山 | M67: 331024908000000743
A68: 2025年第六次党委会会议纪要 | B68: 331000213827 | C68: 动力及环境监控单元 | D68: 动环监控 | E68: 2659.99 | F68: 258.97 | G68: 1 | H68: 个 | L68: 仙居吕前村 | M68: 331024908000000560
A69: 2025年第六次党委会会议纪要 | B69: 331000246116 | C69: 动力及环境监控单元 | D69: 动环监控 | E69: 3508.2 | F69: 1287.27 | G69: 1 | H69: 个 | L69: 仙居将军岭隧道东口外打 | M69: 331024500000001499
A70: 2025年第六次党委会会议纪要 | B70: 331000259252 | C70: 动力及环境监控单元 | D70: 动环监控 | E70: 3806.78 | F70: 1813.53 | G70: 1 | H70: 个 | L70: 仙居西门街 | M70: 331024500010001606
A71: 2025年第六次党委会会议纪要 | B71: 331000212261 | C71: 动力及环境监控单元 | D71: 动环监控 | E71: 2673.78 | F71: 224.31 | G71: 1 | H71: 个 | L71: 温岭新河后丁一路 | M71: 331081908000000141
A72: 2025年第六次党委会会议纪要 | B72: 331000212461 | C72: 动力及环境监控单元 | D72: 动环监控 | E72: 3872.27 | F72: 324.91 | G72: 1 | H72: 个 | L72: 温岭城西芭娜娜搬迁 | M72: 331081500000001592
A73: 2025年第六次党委会会议纪要 | B73: 331000218011 | C73: 动力及环境监控单元 | D73: 动环监控 | E73: 2671.47 | F73: 332.1 | G73: 1 | H73: 个 | L73: 温岭新河营业厅 | M73: 331081908000000349
A74: 2025年第六次党委会会议纪要 | B74: 331000211288 | C74: 动力及环境监控单元 | D74: 动环监控 | E74: 2673.78 | F74: 188.22 | G74: 1 | H74: 个 | L74: 温岭山市营业厅 | M74: 331081908000000312
... A88: 2025年第十一次党委会会议纪要 | B88: 331000207770 | C88: 电源扩容资产 | D88: 供电计量设备 | E88: 603.45 | F88: 26.22 | G88: 1 | H88: 个 | L88: 黄岩南城柯的蒙公司 | M88: 331003908000000278
A89: 2025年第六次党委会会议纪要 | B89: 331000258138 | C89: 机柜空调 | D89: 机柜空调 | E89: 2323.5 | F89: 1071.46 | G89: 1 | H89: 台 | J89: 门装压缩机空调1500W | L89: 温岭城南罗殊村 | M89: 33108101000590
A90: 浙江铁塔财务〔2024〕41号 | B90: 331000248789_2 | C90: 机柜空调 | D90: 机柜空调 | E90: 2613.73 | F90: 764.4 | G90: 1 | H90: 台 | J90: 机柜空调 | L90: 临海甬台温高铁072货运仓库RRU资源点 | M90: 331082908001900115
A91: 2024年台州公司第九次党委会会议纪要 | B91: 331000180174_2 | C91: 机柜空调 | D91: 机柜空调 | E91: 2865.8 | F91: 85.97 | G91: 1 | H91: 台 | J91: 机柜空调 | L91: 路桥横街九郎山 | M91: 331004908000000578
A92: 2024年台州公司第二十一次党委会会议纪要 | B92: 331000186085 | C92: 机柜空调 | D92: 机柜空调 | E92: 3677.49 | F92: 110.32 | G92: 1 | H92: 台 | J92: 机柜空调 | L92: 天台烟草大楼 | M92: 331023908000000163
A93: 2025年第十一次党委会会议纪要 | B93: 331000104515 | C93: 交流配电箱 | D93: 交流计量箱 | E93: 1663.49 | F93: 49.9 | G93: 1 | H93: 个 | L93: 临海双港村-2 | M93: 331082908000000436
A94: 2025年第十一次党委会会议纪要 | B94: 331000109168 | C94: 交流配电箱 | D94: 交流计量箱 | E94: 2451.85 | F94: 73.56 | G94: 1 | H94: 个 | L94: 天台坦头东陈-2 | M94: 331023908000000767
A95: 2025年第十一次党委会会议纪要 | B95: 331000112164 | C95: 交流配电箱 | D95: 交流计量箱 | E95: 3159.66 | F95: 94.79 | G95: 1 | H95: 个 | L95: 黄岩南城柯的蒙公司 | M95: 331003908000000278
...

Sheet 宁波
A1: *报废批复文号 | B1: *资产编码 | C1: *资产名称 | D1: *资产类别名称 | E1: *资产原值（元，不含税） | F1: *资产净值（元，不含税） | G1: *资产数量 | H1: *计量单位 | I1: 单节电池电压 | J1: *规格型号 | K1: 生产厂家 | L1: *站点名称 | M1: *站点编码 | N1: 备注
A2: 总经理办公会纪要〔2025〕第21期 | B2: 330200443708 | C2: 外市电引入 | D2: 外市电引入 | E2: 10910.9 | F2: 7546.77 | G2: 1 | H2: 米 | J2: 4X25黑铝线 | L2: 宁波鄞州劝学里TT21 | M2: 330212500010002618
A3: 总经理办公会纪要〔2025〕第28期 | B3: 330200354114 | C3: 电源扩容资产 | D3: 电源扩容资产 | E3: 201.65 | F3: 6.05 | G3: 1 | H3: 个 | J3: 供电计量设备 | L3: 余姚梁弄北搬迁 | M3: 330281500000000100
A4: 总经理办公会纪要〔2025〕第28期 | B4: 330200131725 | C4: 整流设备-组合开关电源 | D4: 组合式开关电源 | E4: 898.2 | F4: 26.95 | G4: 1 | H4: 个 | J4: 48V-600A(50A模块)-200A | K4: 艾默生 | L4: 茅洋坟山 | M4: 330225908000000581
A5: 总经理办公会纪要〔2025〕第28期 | B5: 330200357176 | C5: 组合式开关电源 | D5: 组合式开关电源 | E5: 9857.02 | F5: 295.71 | G5: 1 | H5: 个 | J5: 48V/600A高效系统(50A高效模块)150A | K5: 中兴 | L5: 象大林二 | M5: 330225908000000773
A6: 总经理办公会纪要〔2025〕第28期 | B6: 330200484345 | C6: 动力及环境监控单元-微站型FSU-交流-4G全网通-室外型-低温 | D6: 动力及环境监控单元 | E6: 528.25 | F6: 385.99 | G6: 1 | H6: 套 | J6: CTFSU-24-YYTD-01 | K6: 义益 | L6: 宁波鄞州园丁社区NR | M6: 330212500010002869
A7: 总经理办公会纪要〔2025〕第28期 | B7: 330200128006 | C7: 整流设备-组合开关电源 | D7: 组合式开关电源 | E7: 898.2 | F7: 26.95 | G7: 1 | H7: 个 | J7: 48V-400A(50A模块)-200A | K7: 艾默生 | L7: 丈亭施岙（联通传输节点） | M7: 330281908000000936
A8: 总经理办公会纪要〔2025〕第28期 | B8: 330200323074 | C8: (中达电通)-开关电源及电源模块-开关电源 | D8: 组合式开关电源 | E8: 7687.97 | F8: 230.64 | G8: 1 | H8: 个 | J8: 落地式开关电源-48V/600A方案A | K8: 中达电通股份有限公司 | L8: 余姚大将桥 | M8: 33028100000308
A9: 总经理办公会纪要〔2025〕第28期 | B9: 330200306322 | C9: 开关电源 | D9: 组合式开关电源 | E9: 2450.22 | F9: 73.51 | G9: 1 | H9: 个 | J9: 开关电源配套设备--壁挂式开关电源系统---48V | K9: 中恒 | L9: 宁波市鄞州区YZ同岙 | M9: 330212908000002035
A10: 总经理办公会纪要〔2025〕第28期 | B10: 330200107655 | C10: 组合式开关电源 | D10: 组合式开关电源 | E10: 824.4 | F10: 24.73 | G10: 1 | H10: 套 | J10: 48V-100A(30A模块)-120 | K10: 中达电通股份有限公司 | L10: 宁波鄞州宝艺珠宝 | M10: 330212010000001154
A11: 总经理办公会纪要〔2025〕第28期 | B11: 330200312420 | C11: 嵌入式高频开关电源-48V/300A高效系统(50A高效模块，共用电源系统，三相交流输入)-100A | D11: 嵌入式开关电源 | E11: 6130.88 | F11: 183.93 | G11: 1 | H11: 套 | J11: 嵌入式高频开关电源-48V/300A高效系统(50A高效模块，共用电源系统，三相交流输入)-100A | K11: 北京动力源科技股份有限公司 | L11: 宁波鄞州宝艺珠宝 | M11: 330212010000001154
A12: 总经理办公会纪要〔2025〕第28期 | B12: 330200115592 | C12: 组合式开关电源 | D12: 组合式开关电源 | E12: 863.35 | F12: 25.9 | G12: 1 | H12: 个 | J12: 48V-540A(25A模块)-225 | K12: 杭州中恒电气股份有限公司 | L12: 宁波市江东区JD太古城 | M12: 330204908000000023
A13: 总经理办公会纪要〔2025〕第28期 | B13: 330200346270 | C13: 整流模块 | D13: 整流模块 | E13: 1434.61 | F13: 43.04 | G13: 1 | H13: 个 | J13: 高效模块50A | L13: 宁波市鄞州区YZ同岙 | M13: 330212908000002035
A14: 总经理办公会纪要〔2025〕第28期 | B14: 330200346271 | C14: 整流模块 | D14: 整流模块 | E14: 1434.63 | F14: 43.04 | G14: 1 | H14: 个 | J14: 高效模块50A | L14: 宁波市鄞州区YZ同岙 | M14: 330212908000002035
A15: 总经理办公会纪要〔2025〕第28期 | B15: 330200346272 | C15: 整流模块 | D15: 整流模块 | E15: 1434.63 | F15: 43.04 | G15: 1 | H15: 个 | J15: 高效模块50A | L15: 宁波市鄞州区YZ同岙 | M15: 330212908000002035
A16: 总经理办公会纪要〔2025〕第28期 | B16: 330200346273 | C16: 整流模块 | D16: 整流模块 | E16: 1434.63 | F16: 43.04 | G16: 1 | H16: 个 | J16: 高效模块50A | L16: 宁波市鄞州区YZ同岙 | M16: 330212908000002035
A17: 总经理办公会纪要〔2025〕第28期 | B17: 330200145698 | C17: 组合式开关电源 | D17: 组合式开关电源 | E17: 568.47 | F17: 17.05 | G17: 1 | H17: 个 | J17: 48V-600A(60A模块)-180 | K17: 施威特克电源（中国）公司 | L17: 北仑白峰门浦 | M17: 330206908000000548
A18: 总经理办公会纪要〔2025〕第28期 | B18: 330200415188 | C18: 嵌入式开关电源 | D18: 嵌入式开关电源 | E18: 5603.62 | F18: 1682.61 | G18: 1 | H18: 套 | J18: 嵌入式开关电源嵌入式高频开关电源配件嵌入式电源插框共用电源系统450A/75A智能电源-高效电源插框 | K18: 华为 | L18: 宁波海曙冯家村 | M18: 330203500000001673
A19: 总经理办公会纪要〔2025〕第28期 | B19: 330200387213 | C19: 嵌入式开关电源 | D19: 嵌入式开关电源 | E19: 13192.08 | F19: 1464.75 | G19: 1 | H19: 套 | J19: 48V/300A高效系统(50A高效模块，共用电源系统，三相交流输入)200A | K19: 中达 | L19: 宁波市慈溪市CX掌起陈家 | M19: 330282908000000829
A20: 总经理办公会纪要〔2025〕第28期 | B20: 330200420978 | C20: 壁挂式开关电源 | D20: 壁挂式开关电源 | E20: 3172.38 | F20: 1035.41 | G20: 1 | H20: 个 | J20: 壁挂式开关电源自冷型1500W防护等级IP65含20AH（锂电池） | K20: 珠海华跃 | L20: 宁波海曙联丰世纪苑东搬迁 | M20: 330203500010002277
A21: 总经理办公会纪要〔2025〕第28期 | B21: 330200332694 | C21: 交流配电箱（整机或机箱） | D21: 交流配电箱 | E21: 4794.97 | F21: 143.85 | G21: 1 | H21: 个 | J21: 壁挂式380V/100A内置100KASPD | K21: 宁波甬发通信设备制造有限公司 | L21: 宁波象山丹宁路 | M21: 33022500000593
A22: 总经理办公会纪要〔2025〕第28期 | B22: 330200321445 | C22: (杭州中恒)-开关电源及电源模块-开关电源 | D22: 组合式开关电源 | E22: 8863.21 | F22: 265.9 | G22: 1 | H22: 个 | J22: 落地式开关电源-48V/600A方案A | K22: 杭州中恒电气股份有限公司 | L22: 宁波象山丹宁路 | M22: 33022500000593
A23: 总经理办公会纪要〔2025〕第28期 | B23: 330200321448 | C23: (北京融和创)-空调及空调零部件-空调 | D23: 基站空调柜式 | E23: 6245.6 | F23: 187.37 | G23: 1 | H23: 台 | J23: 3P 三相柜式（单冷） | K23: 北京融和创科技有限公司 | L23: 宁波象山丹宁路 | M23: 33022500000593
A24: 总经理办公会纪要〔2025〕第28期 | B24: 330200321454 | C24: (融汇)-基站用综合柜-基站用综合柜 | D24: 配套机架/机柜 | E24: 1885.9 | F24: 56.58 | G24: 1 | H24: 个 | J24: 带配电单元的基站用综合柜（600*600*2000mm） | K24: 浙江融汇通信设备有限公司 | L24: 宁波象山丹宁路 | M24: 33022500000593
A25: 总经理办公会纪要〔2025〕第28期 | B25: 330200321455 | C25: 外市电引入 | D25: 外市电引入 | E25: 7119.49 | F25: 59.32 | G25: 1 | H25: 米 | J25: 4X25黑铝 | L25: 宁波象山丹宁路 | M25: 33022500000593
A26: 总经理办公会纪要〔2025〕第28期 | B26: 330200354136 | C26: 动力及环境监控单元 | D26: 动力及环境监控单元 | E26: 2810.95 | F26: 84.33 | G26: 1 | H26: 套 | J26: 主设备室外型成套设备 | L26: 宁波象山丹宁路 | M26: 33022500000593
A27: 总经理办公会纪要〔2025〕第28期 | B27: 330200321446 | C27: (省邮电工程)-油机切换箱-油机切换箱 | D27: 油机转换箱 | E27: 2328.36 | F27: 69.85 | G27: 1 | H27: 个 | J27: 端子排：100A/4P | K27: 浙江省邮电工程建设有限公司 | L27: 宁波象山丹宁路 | M27: 33022500000593
A28: 总经理办公会纪要〔2025〕第28期 | B28: 330200342252 | C28: (志诚动力)-油机切换箱-油机切换箱 | D28: 油机转换箱 | E28: 1197.79 | F28: 35.93 | G28: 1 | H28: 个 | J28: 端子排：63A/2P | K28: 志诚动力科技（杭州）有限公司 | L28: 宁波象山丹宁路 | M28: 33022500000593
A29: 总经理办公会纪要〔2025〕第28期 | B29: 330200104675 | C29: 组合开关电源 | D29: 组合式开关电源 | E29: 5197.44 | F29: 155.92 | G29: 1 | H29: 个 | J29: 48V-600A(50A模块)-200A | K29: 艾默生 | L29: 鄞湾底村 | M29: 330212908000000912
A30: 总经理办公会纪要〔2025〕第28期 | B30: 330200105440 | C30: 整流设备-组合开关电源 | D30: 组合式开关电源 | E30: 898.2 | F30: 26.95 | G30: 1 | H30: 个 | J30: 48V-400A(50A模块)-200A | K30: 艾默生 | L30: 宁柯仙村 | M30: 330226908000000423
A31: 总经理办公会纪要〔2025〕第28期 | B31: 330200122627 | C31: 组合式开关电源 | D31: 组合式开关电源 | E31: 5178.03 | F31: 155.34 | G31: 1 | H31: 个 | J31: 48V-720A(50A模块)-150 | K31: 施威特克电源（中国）公司 | L31: 宁波市北仑区BL沿亭 | M31: 330206908000000256
A32: 总经理办公会纪要〔2025〕第28期 | B32: 330200338907 | C32: 嵌入式高频开关电源-48V/300A高效系统(50A高效模块，共用电源系统，三相交流输入)-100A | D32: 嵌入式开关电源 | E32: 5510.56 | F32: 165.32 | G32: 1 | H32: 套 | J32: 嵌入式高频开关电源-48V/300A高效系统(50A高效模块，共用电源系统，三相交流输入)-100A | K32: 中达电通股份有限公司 | L32: 宁波市奉化市FH中横 | M32: 330283908000000245
A33: 总经理办公会纪要〔2025〕第28期 | B33: 330200345531 | C33: (中达电通)-开关电源及电源模块-开关电源 | D33: 壁挂式开关电源 | E33: 6652.56 | F33: 199.58 | G33: 1 | H33: 个 | J33: 壁挂式开关电源32A/3P*1 | K33: 中达电通股份有限公司 | L33: 宁波奉化秀水路（移动5G） | M33: 33028300000002
A34: 总经理办公会纪要〔2025〕第28期 | B34: 330200115670 | C34: 组合式开关电源 | D34: 组合式开关电源 | E34: 2118 | F34: 63.54 | G34: 1 | H34: 个 | J34: 48V-600A（30A模块）-90 | K34: 杭州中恒电气股份有限公司 | L34: 宁波市余姚市YY余姚胜利村（新建12） | M34: 330281908000000141
A35: 总经理办公会纪要〔2025〕第28期 | B35: 330200304356 | C35: 开关电源 | D35: 组合式开关电源 | E35: 5465.89 | F35: 163.98 | G35: 1 | H35: 个 | J35: 机架30A，48V壁挂开关电源架 | K35: 中恒 | L35: 宁波镇海岚山水库搬迁 | M35: 330211500000001494
A36: 总经理办公会纪要〔2025〕第28期 | B36: 330200332388 | C36: 开关电源（整机或机架） | D36: 嵌入式开关电源 | E36: 5604.29 | F36: 168.13 | G36: 1 | H36: 套 | J36: 嵌入式开关电源32A/3P*1（室外标准机柜用） | K36: 杭州中恒电气股份有限公司 | L36: 鄞州钱湖隐学岭 | M36: 33021200000375
A37: 总经理办公会纪要〔2025〕第28期 | B37: 330200508719 | C37: 施工-宏站-新建-外市电引入-线缆敷设-低压(三相380V)-直供电 | D37: 外市电引入 | E37: 9575.9 | F37: 8306.11 | G37: 1 | H37: 米 | J37: 4X25黒铝线 | L37: 宁波余姚城隍涂五丘YD | M37: 330281500010002186
A38: 总经理办公会纪要〔2025〕第28期 | B38: 330200371167 | C38: 机房配套扩容资产 | D38: 机房配套扩容资产 | E38: 723.23 | F38: 21.7 | G38: 1 | H38: 个 | J38: 监控传感器智能门禁配套物资简易锁(一体化柜) | L38: 慈新浦工业南 | M38: 330282908000000704
A39: 总经理办公会纪要〔2025〕第28期 | B39: 330200353667 | C39: 动力及环境监控单元 | D39: 动力及环境监控单元 | E39: 3566.88 | F39: 107.01 | G39: 1 | H39: 套 | J39: 主设备室内型成套设备基本配置模型 | L39: 慈新浦工业南 | M39: 330282908000000704
A40: 总经理办公会纪要〔2025〕第28期 | B40: 330200116372 | C40: 低压配电设备-交流配电箱 | D40: 交流配电箱 | E40: 2698.16 | F40: 80.94 | G40: 1 | H40: 个 | J40: ZBX1R-20大 | K40: 浙宝 | L40: 姜山菜场 | M40: 330212908000000865
...

Sheet 金华
A1: *报废批复文号 | B1: *资产编码 | C1: *资产名称 | D1: *资产类别名称 | E1: *资产原值（元，不含税） | F1: *资产净值（元，不含税） | G1: *资产数量 | H1: *计量单位 | I1: 单节电池电压 | J1: *规格型号 | K1: 生产厂家 | L1: *站点名称 | M1: *站点编码 | N1: 备注
A2: 2025年4月7日总经理专题办公会议纪要 | B2: 330700413080 | C2: 供电计量设备 | D2: 通用资产-供电计量设备 | E2: 8658.68 | F2: 5158 | G2: 1 | H2: 个 | J2: 低压电子计量50VKA用 | L2: 义乌商贸城医院 | M2: 33078200000156 | N2: 2025B3
A3: 2025年4月7日总经理专题办公会议纪要 | B3: 330700372637 | C3: 动力及环境监控单元 | D3: 动环 | E3: 2661.11 | F3: 223.25 | G3: 1 | H3: 个 | J3: 主设备室内型成套设备基本配置模型 | L3: 义乌城西比娜 | M3: 330782908000001987 | N3: 2025B3
A4: 2025年4月7日总经理专题办公会议纪要 | B4: 330700367080 | C4: 动力及环境监控单元 | D4: 动环 | E4: 2681.14 | F4: 116.53 | G4: 1 | H4: 个 | J4: 主设备室内型成套设备基本配置模型 | L4: 义乌复兴小区 | M4: 330782908000001679 | N4: 2025B3
A5: 2025年4月7日总经理专题办公会议纪要 | B5: 330700380629 | C5: 动力及环境监控单元 | D5: 动环 | E5: 3488.57 | F5: 387.65 | G5: 1 | H5: 个 | J5: 主设备室内型成套设备基本配置模型 | L5: 义乌横塘村 | M5: 330782010000001902 | N5: 2025B3
A6: 2025年4月7日总经理专题办公会议纪要 | B6: 330700366776 | C6: 动力及环境监控单元 | D6: 动环 | E6: 3710.42 | F6: 161.51 | G6: 1 | H6: 个 | J6: 主设备室内型成套设备基本配置模型 | L6: 义乌货运站南搬迁 | M6: 330782010000001900 | N6: 2025B3
A7: 2025年4月7日总经理专题办公会议纪要 | B7: 330700377949 | C7: 动力及环境监控单元 | D7: 动环 | E7: 2671.62 | F7: 296.12 | G7: 1 | H7: 个 | J7: 主设备室内型成套设备基本配置模型 | L7: 义乌金一建 | M7: 330782908000000728 | N7: 2025B3
A8: 2025年4月7日总经理专题办公会议纪要 | B8: 330700366181 | C8: 动力及环境监控单元 | D8: 动环 | E8: 3823.26 | F8: 114.7 | G8: 1 | H8: 个 | J8: 主设备室内型成套设备双柜配置模型 | L8: 义乌上潘村 | M8: 330782010000001883 | N8: 2025B3
A9: 2025年4月7日总经理专题办公会议纪要 | B9: 330700387070 | C9: 动力及环境监控单元 | D9: 动环 | E9: 4103.51 | F9: 454.22 | G9: 1 | H9: 个 | J9: 主设备室内型成套设备双柜配置模型 | L9: 义乌苏溪新院北 | M9: 330782500000001948 | N9: 2025B3
A10: 2025年4月7日总经理专题办公会议纪要 | B10: 330700385201 | C10: 动力及环境监控单元 | D10: 动环 | E10: 3430.87 | F10: 519.31 | G10: 1 | H10: 个 | J10: 主设备室内型成套设备基本配置模型 | L10: 义乌西毛店搬迁二 | M10: 330782500000002072 | N10: 2025B3
A11: 2025年4月7日总经理专题办公会议纪要 | B11: 330700370083 | C11: 动力及环境监控单元 | D11: 动环 | E11: 3313.4 | F11: 233.33 | G11: 1 | H11: 个 | J11: 主设备室内型成套设备基本配置模型 | L11: 义乌新江村搬迁 | M11: 330782500000001873 | N11: 2025B3
A12: 2025年4月7日总经理专题办公会议纪要 | B12: 330700382104 | C12: 动力及环境监控单元 | D12: 动环 | E12: 2661.8 | F12: 330.9 | G12: 1 | H12: 个 | J12: 主设备室内型成套设备基本配置模型 | L12: 义乌义亭木桥 | M12: 330782908000001980 | N12: 2025B3
A13: 2025年4月7日总经理专题办公会议纪要 | B13: 330700381778 | C13: 动力及环境监控单元 | D13: 动环 | E13: 2661.8 | F13: 330.9 | G13: 1 | H13: 个 | J13: 主设备室内型成套设备基本配置模型 | L13: 义乌张宅一村 | M13: 33078200000085 | N13: 2025B3
... A41: 2025年4月7日总经理专题办公会议纪要 | B41: 330700427635 | C41: 电源扩容资产 | D41: 电源类 | E41: 36.69 | F41: 15.45 | G41: 1 | H41: 个 | J41: 直流分路断路器(50A) | L41: 义乌葛仙路 | M41: 330782908000001295 | N41: 2025B3
A42: 2025年4月7日总经理专题办公会议纪要 | B42: 330700358409 | C42: 动力及环境监控单元 | D42: 动环 | E42: 3132.47 | F42: 93.97 | G42: 1 | H42: 个 | L42: 金东付村北 | M42: 330703500000001526 | N42: 2025B3
A43: 2025年4月7日总经理专题办公会议纪要 | B43: 330700340338 | C43: 动力及环境监控单元 | D43: 动环 | E43: 2937.63 | F43: 88.13 | G43: 1 | H43: 个 | L43: 金华高速服务区北 | M43: 330703908000000567 | N43: 2025B3
A44: 2025年4月7日总经理专题办公会议纪要 | B44: 330700339753 | C44: 动力及环境监控单元 | D44: 动环 | E44: 3353.54 | F44: 100.61 | G44: 1 | H44: 个 | L44: 金华婺城区蒋堂跃龙 | M44: 330702700000087352 | N44: 2025B3
A45: 2025年4月7日总经理专题办公会议纪要 | B45: 330700361615 | C45: 动力及环境监控单元 | D45: 动环 | E45: 4535.66 | F45: 136.07 | G45: 1 | H45: 个 | L45: 婺城万里扬搬迁 | M45: 330702500000001486 | N45: 2025B3
A46: 2025年4月7日总经理专题办公会议纪要 | B46: 330700340765 | C46: 动力及环境监控单元 | D46: 动环 | E46: 2937.63 | F46: 88.13 | G46: 1 | H46: 个 | L46: 永康上徐店村 | M46: 330784908000001486 | N46: 2025B3
A47: 2025年4月7日总经理专题办公会议纪要 | B47: 330700346191 | C47: 动力及环境监控单元 | D47: 动环 | E47: 3574.04 | F47: 107.22 | G47: 1 | H47: 个 | L47: 永康应店-2 | M47: 330784908000001345 | N47: 2025B3
A48: 2025年4月7日总经理专题办公会议纪要 | B48: 330700333624 | C48: 动环监控设备 | D48: 动环 | E48: 3114.44 | F48: 93.43 | G48: 1 | H48: 个 | L48: 永康舟山杨溪王村 | M48: 330784500000000004 | N48: 2025B3
A49: 2025年4月7日总经理专题办公会议纪要 | B49: 330700112566 | C49: 交流配电箱 | D49: 电源类 | E49: 2043.52 | F49: 61.31 | G49: 1 | H49: 个 | J49: 交流配电箱 | L49: 义乌祖科塘 | M49: 330782908000000649 | N49: 2025B3
A50: 2025年4月7日总经理专题办公会议纪要 | B50: 330700354020 | C50: 普通空调柜式 | D50: 空调 | E50: 6173.25 | F50: 185.2 | G50: 1 | H50: 台 | J50: 3P | L50: 义乌祖科塘 | M50: 330782908000000649 | N50: 2025B3
A51: 2025年4月7日总经理专题办公会议纪要 | B51: 330700345620 | C51: 基站机房扩容资产 | D51: 基站构筑物 | E51: 1306.21 | F51: 939.05 | G51: 1 | H51: 个 | J51: 600mm室内走线架 | L51: 义乌祖科塘 | M51: 330782908000000649 | N51: 2025B3
A52: 2025年4月7日总经理专题办公会议纪要 | B52: 330700359022 | C52: 机房配套扩容资产 | D52: 模块 | E52: 295.19 | F52: 8.86 | G52: 1 | H52: 个 | J52: 门禁配套物资电源转换模块 | L52: 义乌祖科塘 | M52: 330782908000000649 | N52: 2025B3
A53: 2025年4月7日总经理专题办公会议纪要 | B53: 330700359023 | C53: 基站构筑物扩容资产 | D53: 基站构筑物 | E53: 425.37 | F53: 311.93 | G53: 1 | H53: 个 | J53: 电控锁 | L53: 义乌祖科塘 | M53: 330782908000000649 | N53: 2025B3
A54: 2025年4月7日总经理专题办公会议纪要 | B54: 330700380853 | C54: 机房配套扩容资产 | D54: 机房配套其他 | E54: 310.79 | F54: 38.61 | G54: 1 | H54: 个 | J54: 空调控制器 | L54: 义乌祖科塘 | M54: 330782908000000649 | N54: 2025B3
A55: 2025年4月7日总经理专题办公会议纪要 | B55: 330700003868 | C55: 外市电引入 | D55: 电力电缆 | E55: 14854 | F55: 355.78 | G55: 1 | H55: 根 | J55: 4x25方20米/根 | L55: 义乌凌云六区 | M55: 33078201000551 | N55: 2025B3
A56: 2025年4月7日总经理专题办公会议纪要 | B56: 330700154121 | C56: 交流配电箱 | D56: 电源类 | E56: 4418.8 | F56: 132.56 | G56: 1 | H56: 个 | J56: 交流配电箱 | L56: 义乌凌云六区 | M56: 33078201000551 | N56: 2025B3
A57: 2025年4月7日总经理专题办公会议纪要 | B57: 330700131818 | C57: 专用空调 | D57: 空调 | E57: 6082.33 | F57: 182.47 | G57: 1 | H57: 台 | J57: 3P | L57: 义乌凌云六区 | M57: 33078201000551 | N57: 2025B3
A58: 2025年4月7日总经理专题办公会议纪要 | B58: 330700359029 | C58: 机房配套扩容资产 | D58: 模块 | E58: 295.19 | F58: 8.86 | G58: 1 | H58: 个 | J58: 门禁配套物资电源转换模块 | L58: 义乌凌云六区 | M58: 33078201000551 | N58: 2025B3
A59: 2025年4月7日总经理专题办公会议纪要 | B59: 330700412301 | C59: 电源扩容资产 | D59: 模块 | E59: 1907.45 | F59: 622.51 | G59: 1 | H59: 个 | J59: 普通模块50A | L59: 义乌凌云六区 | M59: 33078201000551 | N59: 2025B3
A60: 2025年4月7日总经理专题办公会议纪要 | B60: 330700335421 | C60: 动环监控设备FSU | D60: 动环 | E60: 3194.65 | F60: 95.84 | G60: 1 | H60: 个 | L60: 义乌凌云六区 | M60: 33078201000551 | N60: 2025B3
A61: 2025年4月7日总经理专题办公会议纪要 | B61: 330700359028 | C61: 基站构筑物扩容资产 | D61: 基站构筑物 | E61: 425.37 | F61: 318.01 | G61: 1 | H61: 个 | J61: 电控锁 | L61: 义乌凌云六区 | M61: 33078201000551 | N61: 2025B3
A62: 2025年4月7日总经理专题办公会议纪要 | B62: 330700425270 | C62: 机房配套扩容资产 | D62: 机房配套其他 | E62: 361.48 | F62: 142.19 | G62: 1 | H62: 个 | J62: 空调控制器控制器红外模块 | L62: 义乌凌云六区 | M62: 33078201000551 | N62: 2025B3
A63: 2025年4月7日总经理专题办公会议纪要 | B63: 330700392116 | C63: 电力引入扩容资产 | D63: 外市电 | E63: 533.11 | F63: 287.31 | G63: 1 | H63: 个 | J63: 霍尔传感器电流型输入100A | L63: 义乌凌云六区 | M63: 33078201000551 | N63: 2025B3
A64: 2025年4月7日总经理专题办公会议纪要 | B64: 330700494415 | C64: 基站机房扩容资产 | D64: 电力电缆 | E64: 44.75 | F64: 41.5 | G64: 1 | H64: 根 | J64: 1x35方2米/根 | L64: 浦江超界集团二 | M64: 33072601000416 | N64: 2025B3
A65: 2025年4月7日总经理专题办公会议纪要 | B65: 330700407146 | C65: 基站机房扩容资产 | D65: 电力电缆 | E65: 339.19 | F65: 283.1 | G65: 1 | H65: 根 | J65: 4x25方5米/根 | L65: 浦江超界集团二 | M65: 33072601000416 | N65: 2025B3
A66: 2025年4月7日总经理专题办公会议纪要 | B66: 330700145852 | C66: 交流配电箱 | D66: 电源类 | E66: 4233.25 | F66: 127 | G66: 1 | H66: 个 | J66: 交流配电箱 | L66: 浦江超界集团二 | M66: 33072601000416 | N66: 2025B3
A67: 2025年4月7日总经理专题办公会议纪要 | B67: 330700169109 | C67: 专用空调 | D67: 空调 | E67: 8465.67 | F67: 253.97 | G67: 1 | H67: 台 | J67: 3P | L67: 浦江超界集团二 | M67: 33072601000416 | N67: 2025B3
...
